BEGIN:VCALENDAR
VERSION:2.0
PRODID:-//Commune de Nivillac - ECPv5.9.1//NONSGML v1.0//EN
CALSCALE:GREGORIAN
METHOD:PUBLISH
X-WR-CALNAME:Commune de Nivillac
X-ORIGINAL-URL:http://www.nivillac.fr
X-WR-CALDESC:évènements pour Commune de Nivillac
BEGIN:VTIMEZONE
TZID:Europe/Paris
BEGIN:DAYLIGHT
TZOFFSETFROM:+0100
TZOFFSETTO:+0200
TZNAME:CEST
DTSTART:20220327T010000
END:DAYLIGHT
BEGIN:STANDARD
TZOFFSETFROM:+0200
TZOFFSETTO:+0100
TZNAME:CET
DTSTART:20221030T010000
END:STANDARD
END:VTIMEZONE
BEGIN:VEVENT
DTSTART;TZID=Europe/Paris:20220809T140000
DTEND;TZID=Europe/Paris:20220809T160000
DTSTAMP:20260423T193506
CREATED:20220713T120156Z
LAST-MODIFIED:20220713T120156Z
UID:12344-1660053600-1660060800@www.nivillac.fr
SUMMARY:Tournoi jeux vidéo
DESCRIPTION:Tournoi jeux vidéo \nPour remporter la victoire\, sois le meilleur à la boxe et à la course. Affronte tes amis sur Mario Kart et Arms sur la Wii U et la Switch. \nPour les enfants à partir de 10 ans. \nGratuit. Sur réservation. Médiathèque. \nMardi 9 août de 14h à 16h \n  \n\n\nPartager la publication "Tournoi jeux vidéo" \n\n	FacebookTwitterPartager...
URL:http://www.nivillac.fr/evenement/tournoi-jeux-video/
LOCATION:Médiathèque L@ Parenthèse\, 1 rue J
ATTACH;FMTTYPE=image/png:http://www.nivillac.fr/wp-content/uploads/2022/07/tournoi-web.png
END:VEVENT
END:VCALENDAR