BEGIN:VCALENDAR
VERSION:2.0
PRODID:-//Commune de Nivillac - ECPv5.9.1//NONSGML v1.0//EN
CALSCALE:GREGORIAN
METHOD:PUBLISH
X-WR-CALNAME:Commune de Nivillac
X-ORIGINAL-URL:http://www.nivillac.fr
X-WR-CALDESC:évènements pour Commune de Nivillac
BEGIN:VTIMEZONE
TZID:Europe/Paris
BEGIN:DAYLIGHT
TZOFFSETFROM:+0100
TZOFFSETTO:+0200
TZNAME:CEST
DTSTART:20220327T010000
END:DAYLIGHT
BEGIN:STANDARD
TZOFFSETFROM:+0200
TZOFFSETTO:+0100
TZNAME:CET
DTSTART:20221030T010000
END:STANDARD
END:VTIMEZONE
BEGIN:VEVENT
DTSTART;TZID=Europe/Paris:20220722T111500
DTEND;TZID=Europe/Paris:20220722T114500
DTSTAMP:20260424T015255
CREATED:20220712T161702Z
LAST-MODIFIED:20220712T161702Z
UID:12336-1658488500-1658490300@www.nivillac.fr
SUMMARY:Partir en livre : Heure du conte
DESCRIPTION:A l’occasion de la grande fête du livre pour la jeunesse\, organisée par le Centre National du Livre\, l’équipe de la médiathèque se déplace au bois de Lourmois pour vous conter ses histoires. \nL’amitié sera à l’honneur pour ces moments de détente. \nAlors prenez vos tapis\, nattes\, transats et venez vous asseoir à l’ombre des arbres avec nous. \nGratuit. Sur réservation. Bois de Lourmois. \n(En cas de pluie\, une solution de repli pourra être proposée.) \nVendredi 22 juillet à 11h15 : pour les enfants de 4 à 6 ans \nVendredi 29 juillet à 11h15 : pour les enfants de 6 à 8 ans \n  \n\n\nPartager la publication "Partir en livre : Heure du conte" \n\n	FacebookTwitterPartager...
URL:http://www.nivillac.fr/evenement/partir-en-livre-heure-du-conte/
LOCATION:Médiathèque L@ Parenthèse\, 1 rue J
ATTACH;FMTTYPE=image/jpeg:http://www.nivillac.fr/wp-content/uploads/2022/07/PARTIR-EN-LIVRE_1080x1080_publication.jpg
END:VEVENT
END:VCALENDAR