BEGIN:VCALENDAR
VERSION:2.0
PRODID:-//Commune de Nivillac - ECPv5.9.1//NONSGML v1.0//EN
CALSCALE:GREGORIAN
METHOD:PUBLISH
X-WR-CALNAME:Commune de Nivillac
X-ORIGINAL-URL:http://www.nivillac.fr
X-WR-CALDESC:évènements pour Commune de Nivillac
BEGIN:VTIMEZONE
TZID:Europe/Paris
BEGIN:DAYLIGHT
TZOFFSETFROM:+0100
TZOFFSETTO:+0200
TZNAME:CEST
DTSTART:20220327T010000
END:DAYLIGHT
BEGIN:STANDARD
TZOFFSETFROM:+0200
TZOFFSETTO:+0100
TZNAME:CET
DTSTART:20221030T010000
END:STANDARD
END:VTIMEZONE
BEGIN:VEVENT
DTSTART;TZID=Europe/Paris:20220731T100000
DTEND;TZID=Europe/Paris:20220731T170000
DTSTAMP:20260423T194632
CREATED:20220715T145215Z
LAST-MODIFIED:20220715T145216Z
UID:12351-1659261600-1659286800@www.nivillac.fr
SUMMARY:Fête de la Nature
DESCRIPTION:flyer-A5-fete nature 2022 \n\n\nPartager la publication "Fête de la Nature" \n\n	FacebookTwitterPartager...
URL:http://www.nivillac.fr/evenement/fete-de-la-nature-3/
ATTACH;FMTTYPE=application/pdf:http://www.nivillac.fr/wp-content/uploads/2022/07/flyer-A5-fete-nature-2022-1.pdf
END:VEVENT
END:VCALENDAR