BEGIN:VCALENDAR
VERSION:2.0
PRODID:-//Commune de Nivillac - ECPv5.9.1//NONSGML v1.0//EN
CALSCALE:GREGORIAN
METHOD:PUBLISH
X-WR-CALNAME:Commune de Nivillac
X-ORIGINAL-URL:http://www.nivillac.fr
X-WR-CALDESC:évènements pour Commune de Nivillac
BEGIN:VTIMEZONE
TZID:Europe/Paris
BEGIN:DAYLIGHT
TZOFFSETFROM:+0100
TZOFFSETTO:+0200
TZNAME:CEST
DTSTART:20220327T010000
END:DAYLIGHT
BEGIN:STANDARD
TZOFFSETFROM:+0200
TZOFFSETTO:+0100
TZNAME:CET
DTSTART:20221030T010000
END:STANDARD
END:VTIMEZONE
BEGIN:VEVENT
DTSTART;TZID=Europe/Paris:20220731T080000
DTEND;TZID=Europe/Paris:20220731T170000
DTSTAMP:20260423T210814
CREATED:20220620T143648Z
LAST-MODIFIED:20220620T143648Z
UID:12307-1659254400-1659286800@www.nivillac.fr
SUMMARY:Fête de la Nature
DESCRIPTION:5ème édition. Plusieurs activités en plein air autour de la nature \nBattage à l’ancienne\, expositions et vente volailles\, lapins et oiseaux exotiques\, spectacle équestre\, promenades en calèche\, marché du terroir\, conférences sur le thème de l’écologie et l’environnement\, sorties ornithologique et botanique\, présence d’un fauconnier professionnel qui exposera ses rapaces et spectacle de vols libres\, jeux pour les enfants…\nNombreux stands : poterie \, vannerie \, horticulture \, photographe animalier \, troc plantes…\nRestauration sur place le midi et en soirée : repas champêtre animé par le groupe Kergallo (musique traditionnelle à danser) \nOrganisé par le Comité des Fêtes de Nivillac \n\n\n\n\n\nPartager la publication "Fête de la Nature" \n\n	FacebookTwitterPartager...
URL:http://www.nivillac.fr/evenement/fete-de-la-nature-2/
ATTACH;FMTTYPE=image/jpeg:http://www.nivillac.fr/wp-content/uploads/2022/06/comite-des-fetes-1-scaled.jpg
END:VEVENT
END:VCALENDAR