BEGIN:VCALENDAR
VERSION:2.0
PRODID:-//Commune de Nivillac - ECPv5.9.1//NONSGML v1.0//EN
CALSCALE:GREGORIAN
METHOD:PUBLISH
X-WR-CALNAME:Commune de Nivillac
X-ORIGINAL-URL:http://www.nivillac.fr
X-WR-CALDESC:évènements pour Commune de Nivillac
BEGIN:VTIMEZONE
TZID:Europe/Paris
BEGIN:DAYLIGHT
TZOFFSETFROM:+0100
TZOFFSETTO:+0200
TZNAME:CEST
DTSTART:20200329T010000
END:DAYLIGHT
BEGIN:STANDARD
TZOFFSETFROM:+0200
TZOFFSETTO:+0100
TZNAME:CET
DTSTART:20201025T010000
END:STANDARD
END:VTIMEZONE
BEGIN:VEVENT
DTSTART;TZID=Europe/Paris:20200214T203000
DTEND;TZID=Europe/Paris:20200214T220000
DTSTAMP:20260426T045811
CREATED:20190823T141554Z
LAST-MODIFIED:20190823T141817Z
UID:9733-1581712200-1581717600@www.nivillac.fr
SUMMARY:De terre\, de mer\, d'amour et de feu - Capitaine Alexandre
DESCRIPTION:Poète slameur\, Capitaine Alexandre écrit au tempo de son cœur et inscrit ses mots et ses pas\, dans ceux\, essentiels\, de ses guides à penser et professeurs d’espérance : sa poésie chante les possibles\, le don de soi\, l’amour et la révolte\, la quête de l’humain\, rien que l’humain et le refus radical de vivre « les bras croisés en l’attitude stérile du spectateur ». EN SAVOIR PLUS\nSpectacle proposé par la médiathèque L@ Parenthèse. Un RDV à la médiathèque pendant les nuit de la lecture le samedi 18 janvier : un atelier d’écriture pour ados et adultes dans le style poésie urbaine et un concert en soirée de BDF
URL:http://www.nivillac.fr/evenement/de-terre-de-mer-damour-et-de-feu-capitaine-alexandre/
ATTACH;FMTTYPE=image/jpeg:http://www.nivillac.fr/wp-content/uploads/2019/08/capitaine-alexandre.jpg
END:VEVENT
END:VCALENDAR