BEGIN:VCALENDAR
VERSION:2.0
PRODID:-//Commune de Nivillac - ECPv5.9.1//NONSGML v1.0//EN
CALSCALE:GREGORIAN
METHOD:PUBLISH
X-WR-CALNAME:Commune de Nivillac
X-ORIGINAL-URL:http://www.nivillac.fr
X-WR-CALDESC:évènements pour Commune de Nivillac
BEGIN:VTIMEZONE
TZID:Europe/Paris
BEGIN:DAYLIGHT
TZOFFSETFROM:+0100
TZOFFSETTO:+0200
TZNAME:CEST
DTSTART:20200329T010000
END:DAYLIGHT
BEGIN:STANDARD
TZOFFSETFROM:+0200
TZOFFSETTO:+0100
TZNAME:CET
DTSTART:20201025T010000
END:STANDARD
END:VTIMEZONE
BEGIN:VEVENT
DTSTART;TZID=Europe/Paris:20200212T160000
DTEND;TZID=Europe/Paris:20200212T173000
DTSTAMP:20260426T015359
CREATED:20200123T150445Z
LAST-MODIFIED:20200123T150525Z
UID:10101-1581523200-1581528600@www.nivillac.fr
SUMMARY:Petits bricolages du mercredi: création en strip art
DESCRIPTION:Deux ateliers de création en strip art (bandes de papiers) sont proposés en lien avec le spectacle du Forum du 14 février 2020. \nGratuit sur inscription. \nMercredi 12 février de 16h à 17h30 : enfants de 6 à 9 ans.
URL:http://www.nivillac.fr/evenement/petits-bricolages-du-mercredi-creation-en-strip-art/
ATTACH;FMTTYPE=image/jpeg:http://www.nivillac.fr/wp-content/uploads/2019/10/Médiathèque.jpg
END:VEVENT
BEGIN:VEVENT
DTSTART;TZID=Europe/Paris:20200212T170000
DTEND;TZID=Europe/Paris:20200212T173500
DTSTAMP:20260426T015359
CREATED:20190823T143004Z
LAST-MODIFIED:20190823T143403Z
UID:9745-1581526800-1581528900@www.nivillac.fr
SUMMARY:Festival Prom'nons nous : "Papic"\, Cie Drolatic Industry
DESCRIPTION:Marionnettes – Dès 3 ans \nSacha admire son grand-père et aime jouer avec sa longue barbe dans laquelle elle pioche des objets cachés. Ceux-ci sont autant d’histoires et de souvenirs transmis du papy à sa petite fille.\nEN SAVOIR PLUS
URL:http://www.nivillac.fr/evenement/festival-promnons-nous-papic-cie-drolatic-industry/
ATTACH;FMTTYPE=image/jpeg:http://www.nivillac.fr/wp-content/uploads/2019/08/apm-drolatic.-Laetitia-Rouxel-13.jpg
END:VEVENT
END:VCALENDAR