BEGIN:VCALENDAR
VERSION:2.0
PRODID:-//Commune de Nivillac - ECPv5.9.1//NONSGML v1.0//EN
CALSCALE:GREGORIAN
METHOD:PUBLISH
X-WR-CALNAME:Commune de Nivillac
X-ORIGINAL-URL:http://www.nivillac.fr
X-WR-CALDESC:évènements pour Commune de Nivillac
BEGIN:VTIMEZONE
TZID:Europe/Paris
BEGIN:DAYLIGHT
TZOFFSETFROM:+0100
TZOFFSETTO:+0200
TZNAME:CEST
DTSTART:20200329T010000
END:DAYLIGHT
BEGIN:STANDARD
TZOFFSETFROM:+0200
TZOFFSETTO:+0100
TZNAME:CET
DTSTART:20201025T010000
END:STANDARD
END:VTIMEZONE
BEGIN:VEVENT
DTSTART;TZID=Europe/Paris:20200208T133000
DTEND;TZID=Europe/Paris:20200208T153000
DTSTAMP:20260425T192411
CREATED:20200123T150302Z
LAST-MODIFIED:20200123T150302Z
UID:10099-1581168600-1581175800@www.nivillac.fr
SUMMARY:Petits bricolages du samedi: création en strip art
DESCRIPTION:Deux ateliers de création en strip art (bandes de papiers) sont proposés en lien avec le spectacle du Forum du 14 février 2020. \nGratuit sur inscription. \n  \nSamedi 8 février de 13h30 à 15h30 : adultes et enfant à partir de 10 ans.
URL:http://www.nivillac.fr/evenement/petits-bricolages-du-samedi-creation-en-strip-art/
ATTACH;FMTTYPE=image/jpeg:http://www.nivillac.fr/wp-content/uploads/2019/10/Médiathèque.jpg
END:VEVENT
BEGIN:VEVENT
DTSTART;TZID=Europe/Paris:20200208T150000
DTEND;TZID=Europe/Paris:20200208T153500
DTSTAMP:20260425T192411
CREATED:20190823T142156Z
LAST-MODIFIED:20190823T143653Z
UID:9738-1581174000-1581176100@www.nivillac.fr
SUMMARY:Festival Prom'nons nous : "La nuit\, la brume"\, Cie 1-0-1.fr
DESCRIPTION:Immersion sensorielle – Dès 6 ans \nProjection d’images dans des brumes de vapeur à l’aide d’un dispositif original qui fait\nvivre au spectateur une expérience immersive.\nEN SAVOIR PLUS
URL:http://www.nivillac.fr/evenement/festival-promnons-nous-la-nuit-la-brume-cie-1-0-1-fr/
ATTACH;FMTTYPE=image/jpeg:http://www.nivillac.fr/wp-content/uploads/2019/08/9.-La-nuit-La-brume-2.jpeg
END:VEVENT
BEGIN:VEVENT
DTSTART;TZID=Europe/Paris:20200208T170000
DTEND;TZID=Europe/Paris:20200208T173500
DTSTAMP:20260425T192411
CREATED:20190823T142406Z
LAST-MODIFIED:20190823T143524Z
UID:9741-1581181200-1581183300@www.nivillac.fr
SUMMARY:Festival Prom'nons nous : "La nuit\, la brume"\, Cie 1-0-1.fr
DESCRIPTION:Immersion sensorielle – Dès 6 ans \nProjection d’images dans des brumes de vapeur à l’aide d’un dispositif original qui fait\nvivre au spectateur une expérience immersive. Dès 6 ans\nEN SAVOIR PLUS
URL:http://www.nivillac.fr/evenement/festival-promnons-nous-la-nuit-la-brume-cie-1-0-1-fr-2/
ATTACH;FMTTYPE=image/jpeg:http://www.nivillac.fr/wp-content/uploads/2019/08/9.-La-nuit-La-brume-2.jpeg
END:VEVENT
END:VCALENDAR