BEGIN:VCALENDAR
VERSION:2.0
PRODID:-//Commune de Nivillac - ECPv5.9.1//NONSGML v1.0//EN
CALSCALE:GREGORIAN
METHOD:PUBLISH
X-WR-CALNAME:Commune de Nivillac
X-ORIGINAL-URL:http://www.nivillac.fr
X-WR-CALDESC:évènements pour Commune de Nivillac
BEGIN:VTIMEZONE
TZID:Europe/Paris
BEGIN:DAYLIGHT
TZOFFSETFROM:+0100
TZOFFSETTO:+0200
TZNAME:CEST
DTSTART:20200329T010000
END:DAYLIGHT
BEGIN:STANDARD
TZOFFSETFROM:+0200
TZOFFSETTO:+0100
TZNAME:CET
DTSTART:20201025T010000
END:STANDARD
END:VTIMEZONE
BEGIN:VEVENT
DTSTART;TZID=Europe/Paris:20200125T100000
DTEND;TZID=Europe/Paris:20200126T170000
DTSTAMP:20260424T213612
CREATED:20200120T144126Z
LAST-MODIFIED:20200123T144601Z
UID:10081-1579946400-1580058000@www.nivillac.fr
SUMMARY:Atelier a corps de voix
DESCRIPTION:au centre de loisirs de Nivillac samedi 25 et dimanche 26 janvier. \nEn savoir plus au 06 20 40 65 81 (Armelle)\, 06 51 39 42 39(Karen) ou ateliersacorpsdevoix@gmail.com.
URL:http://www.nivillac.fr/evenement/atelier-a-corps-de-voix/
ATTACH;FMTTYPE=image/jpeg:http://www.nivillac.fr/wp-content/uploads/2013/12/Accueil-de-loisirs.jpg
END:VEVENT
BEGIN:VEVENT
DTSTART;TZID=Europe/Paris:20200125T203000
DTEND;TZID=Europe/Paris:20200125T223000
DTSTAMP:20260424T213612
CREATED:20191226T145436Z
LAST-MODIFIED:20191226T145436Z
UID:10054-1579984200-1579991400@www.nivillac.fr
SUMMARY:Soirées Nivillacoises
DESCRIPTION:Permanence chaque mercredi et vendredi de janvier pour la pièce Allô chérie… J’ai délocalisé ta mère ! Cette comédie en trois actes sera jouée les samedis 11\, 18\, 25 janvier et 1er février ainsi que vendredi 31 janvier à 20 h 30 puis les dimanches 19 et 26 janvier ainsi que le 2 février à 15 h. \nVendredi 3 janvier\, 15h30 à 18h\, salle du Dr-Picaud\, face à l’église (côté est)\, Nivillac. Contact et réservation : 07 88 38 57 29.
URL:http://www.nivillac.fr/evenement/soirees-nivillacoises-8/
ATTACH;FMTTYPE=image/jpeg:http://www.nivillac.fr/wp-content/uploads/2015/10/théâtre.jpg
END:VEVENT
END:VCALENDAR