BEGIN:VCALENDAR
VERSION:2.0
PRODID:-//Commune de Nivillac - ECPv5.9.1//NONSGML v1.0//EN
CALSCALE:GREGORIAN
METHOD:PUBLISH
X-WR-CALNAME:Commune de Nivillac
X-ORIGINAL-URL:http://www.nivillac.fr
X-WR-CALDESC:évènements pour Commune de Nivillac
BEGIN:VTIMEZONE
TZID:Europe/Paris
BEGIN:DAYLIGHT
TZOFFSETFROM:+0100
TZOFFSETTO:+0200
TZNAME:CEST
DTSTART:20200329T010000
END:DAYLIGHT
BEGIN:STANDARD
TZOFFSETFROM:+0200
TZOFFSETTO:+0100
TZNAME:CET
DTSTART:20201025T010000
END:STANDARD
END:VTIMEZONE
BEGIN:VEVENT
DTSTART;TZID=Europe/Paris:20200118T000000
DTEND;TZID=Europe/Paris:20200118T000000
DTSTAMP:20260424T110338
CREATED:20190823T150340Z
LAST-MODIFIED:20190823T150340Z
UID:9779-1579305600-1579305600@www.nivillac.fr
SUMMARY:RDV à la médiathèque L@ Parenthèse
DESCRIPTION:Autour du spectacle « De terre\, de mer et de feu »\, par Capitaine Alexandre\, programmé au Forum le vendredi 14 février à 20h30 (En savoir plus ) deux RDV sont proposés à la médiathèque La Médiathèque L@ Parenthèse :\n> Atelier d’écriture pour ados et adultes dans le style « poésie urbaine » animé par Pamphile Hounsou\, dit BSF.\n> Concert en soirée de BSF « Croisement parallèle »
URL:http://www.nivillac.fr/evenement/rdv-a-la-mediatheque-l-parenthese/
END:VEVENT
BEGIN:VEVENT
DTSTART;TZID=Europe/Paris:20200118T093000
DTEND;TZID=Europe/Paris:20200118T103600
DTSTAMP:20260424T110338
CREATED:20190823T141031Z
LAST-MODIFIED:20190823T145658Z
UID:9728-1579339800-1579343760@www.nivillac.fr
SUMMARY:Petit déjeuner spectaculaire !
DESCRIPTION:« Au point du jour »\, Cie Presque Siamoises \nDe bon matin\, réveillé\, habillé\, vous vous préparez à attaquer votre journée… Et si pour une fois\, vous veniez prendre votre petit déjeuner au Forum !\nAu Point du Jour nous invite au petit matin à prendre le temps de célébrer la journée qui arrive autour de quelques tartines et d’un bon café\, thé ou chocolat. EN SAVOIR PLUS
URL:http://www.nivillac.fr/evenement/petit-dejeuner-spectaculaire/
ATTACH;FMTTYPE=image/jpeg:http://www.nivillac.fr/wp-content/uploads/2019/08/Pt-Déj.jpg
END:VEVENT
BEGIN:VEVENT
DTSTART;TZID=Europe/Paris:20200118T203000
DTEND;TZID=Europe/Paris:20200118T223000
DTSTAMP:20260424T110338
CREATED:20191226T145209Z
LAST-MODIFIED:20191226T145209Z
UID:10052-1579379400-1579386600@www.nivillac.fr
SUMMARY:Soirées Nivillacoises
DESCRIPTION:Permanence chaque mercredi et vendredi de janvier pour la pièce Allô chérie… J’ai délocalisé ta mère ! Cette comédie en trois actes sera jouée les samedis 11\, 18\, 25 janvier et 1er février ainsi que vendredi 31 janvier à 20 h 30 puis les dimanches 19 et 26 janvier ainsi que le 2 février à 15 h. \nVendredi 3 janvier\, 15h30 à 18h\, salle du Dr-Picaud\, face à l’église (côté est)\, Nivillac. Contact et réservation : 07 88 38 57 29.
URL:http://www.nivillac.fr/evenement/soirees-nivillacoises-7/
ATTACH;FMTTYPE=image/jpeg:http://www.nivillac.fr/wp-content/uploads/2015/10/cours-de-theatre-id68.jpg
END:VEVENT
END:VCALENDAR