BEGIN:VCALENDAR
VERSION:2.0
PRODID:-//Commune de Nivillac - ECPv5.9.1//NONSGML v1.0//EN
CALSCALE:GREGORIAN
METHOD:PUBLISH
X-WR-CALNAME:Commune de Nivillac
X-ORIGINAL-URL:http://www.nivillac.fr
X-WR-CALDESC:évènements pour Commune de Nivillac
BEGIN:VTIMEZONE
TZID:Europe/Paris
BEGIN:DAYLIGHT
TZOFFSETFROM:+0100
TZOFFSETTO:+0200
TZNAME:CEST
DTSTART:20200329T010000
END:DAYLIGHT
BEGIN:STANDARD
TZOFFSETFROM:+0200
TZOFFSETTO:+0100
TZNAME:CET
DTSTART:20201025T010000
END:STANDARD
END:VTIMEZONE
BEGIN:VEVENT
DTSTART;TZID=Europe/Paris:20200115T160000
DTEND;TZID=Europe/Paris:20200115T173000
DTSTAMP:20260424T054851
CREATED:20191226T150533Z
LAST-MODIFIED:20191226T150533Z
UID:10062-1579104000-1579109400@www.nivillac.fr
SUMMARY:Les petits bricolages du mercredi
DESCRIPTION:Recyclage de boîtes à oeufs pour la fabrication de coquetiers. \nMercredi 15 janvier de 16h à 17h30 \nGratuit. Sur inscription. Pour les 4-6 ans. \n  \nEn lien avec le spectacle du Forum des 18 et 19 janvier 2020.
URL:http://www.nivillac.fr/evenement/les-petits-bricolages-du-mercredi-8/
ATTACH;FMTTYPE=image/jpeg:http://www.nivillac.fr/wp-content/uploads/2019/10/Médiathèque.jpg
END:VEVENT
END:VCALENDAR