BEGIN:VCALENDAR
VERSION:2.0
PRODID:-//Commune de Nivillac - ECPv5.9.1//NONSGML v1.0//EN
CALSCALE:GREGORIAN
METHOD:PUBLISH
X-WR-CALNAME:Commune de Nivillac
X-ORIGINAL-URL:http://www.nivillac.fr
X-WR-CALDESC:évènements pour Commune de Nivillac
BEGIN:VTIMEZONE
TZID:Europe/Paris
BEGIN:DAYLIGHT
TZOFFSETFROM:+0100
TZOFFSETTO:+0200
TZNAME:CEST
DTSTART:20170326T010000
END:DAYLIGHT
BEGIN:STANDARD
TZOFFSETFROM:+0200
TZOFFSETTO:+0100
TZNAME:CET
DTSTART:20171029T010000
END:STANDARD
END:VTIMEZONE
BEGIN:VEVENT
DTSTART;VALUE=DATE:20171022
DTEND;VALUE=DATE:20171023
DTSTAMP:20260424T045354
CREATED:20170904T151323Z
LAST-MODIFIED:20170904T151323Z
UID:7546-1508630400-1508716799@www.nivillac.fr
SUMMARY:Fête de la Nature d’Automne
DESCRIPTION:Organisé par le comité des fêtes à l’auberge du Grand Baud
URL:http://www.nivillac.fr/evenement/fete-de-nature-dautomne-2/
ATTACH;FMTTYPE=image/png:http://www.nivillac.fr/wp-content/uploads/2017/09/sans-titre.png
END:VEVENT
BEGIN:VEVENT
DTSTART;TZID=Europe/Paris:20171022T133000
DTEND;TZID=Europe/Paris:20171022T180000
DTSTAMP:20260424T045354
CREATED:20170904T151635Z
LAST-MODIFIED:20170904T151635Z
UID:7548-1508679000-1508695200@www.nivillac.fr
SUMMARY:Loto de l'Amicale des Retraités de Missillac
DESCRIPTION:au Forum
URL:http://www.nivillac.fr/evenement/loto-de-lamicale-retraites-de-missillac/
ATTACH;FMTTYPE=image/jpeg:http://www.nivillac.fr/wp-content/uploads/2013/11/Entree-Forum.jpg
END:VEVENT
END:VCALENDAR